BEGIN:VCALENDAR
VERSION:2.0
PRODID:-//REMEDi4ALL - ECPv6.15.20//NONSGML v1.0//EN
CALSCALE:GREGORIAN
METHOD:PUBLISH
X-WR-CALNAME:REMEDi4ALL
X-ORIGINAL-URL:https://remedi4all.org
X-WR-CALDESC:Events for REMEDi4ALL
REFRESH-INTERVAL;VALUE=DURATION:PT1H
X-Robots-Tag:noindex
X-PUBLISHED-TTL:PT1H
BEGIN:VTIMEZONE
TZID:Europe/Amsterdam
BEGIN:DAYLIGHT
TZOFFSETFROM:+0100
TZOFFSETTO:+0200
TZNAME:CEST
DTSTART:20240331T010000
END:DAYLIGHT
BEGIN:STANDARD
TZOFFSETFROM:+0200
TZOFFSETTO:+0100
TZNAME:CET
DTSTART:20241027T010000
END:STANDARD
BEGIN:DAYLIGHT
TZOFFSETFROM:+0100
TZOFFSETTO:+0200
TZNAME:CEST
DTSTART:20250330T010000
END:DAYLIGHT
BEGIN:STANDARD
TZOFFSETFROM:+0200
TZOFFSETTO:+0100
TZNAME:CET
DTSTART:20251026T010000
END:STANDARD
BEGIN:DAYLIGHT
TZOFFSETFROM:+0100
TZOFFSETTO:+0200
TZNAME:CEST
DTSTART:20260329T010000
END:DAYLIGHT
BEGIN:STANDARD
TZOFFSETFROM:+0200
TZOFFSETTO:+0100
TZNAME:CET
DTSTART:20261025T010000
END:STANDARD
END:VTIMEZONE
BEGIN:VEVENT
DTSTART;VALUE=DATE:20250507
DTEND;VALUE=DATE:20250509
DTSTAMP:20260422T081526
CREATED:20241007T132248Z
LAST-MODIFIED:20241209T151356Z
UID:8550-1746576000-1746748799@remedi4all.org
SUMMARY:International Drug Repurposing Conference 2025 - #iDR25
DESCRIPTION:Exciting news for anyone passionate about healthcare innovation—iDR25\, the International Drug Repurposing Conference\, is coming up on 7-8th May 2025 in the beautiful city of Amsterdam in The Netherlands!
URL:https://remedi4all.org/event/international-drug-repurposing-conference-2025-idr25/
LOCATION:Amsterdam\, the Netherlands
ATTACH;FMTTYPE=image/png:https://remedi4all.org/wp-content/uploads/2024/09/iDR25-Branding-SoMe-Card.png
END:VEVENT
END:VCALENDAR