BEGIN:VCALENDAR
VERSION:2.0
PRODID:-//REMEDi4ALL - ECPv6.15.20//NONSGML v1.0//EN
CALSCALE:GREGORIAN
METHOD:PUBLISH
X-WR-CALNAME:REMEDi4ALL
X-ORIGINAL-URL:https://remedi4all.org
X-WR-CALDESC:Events for REMEDi4ALL
REFRESH-INTERVAL;VALUE=DURATION:PT1H
X-Robots-Tag:noindex
X-PUBLISHED-TTL:PT1H
BEGIN:VTIMEZONE
TZID:Europe/London
BEGIN:DAYLIGHT
TZOFFSETFROM:+0000
TZOFFSETTO:+0100
TZNAME:BST
DTSTART:20250330T010000
END:DAYLIGHT
BEGIN:STANDARD
TZOFFSETFROM:+0100
TZOFFSETTO:+0000
TZNAME:GMT
DTSTART:20251026T010000
END:STANDARD
BEGIN:DAYLIGHT
TZOFFSETFROM:+0000
TZOFFSETTO:+0100
TZNAME:BST
DTSTART:20260329T010000
END:DAYLIGHT
BEGIN:STANDARD
TZOFFSETFROM:+0100
TZOFFSETTO:+0000
TZNAME:GMT
DTSTART:20261025T010000
END:STANDARD
BEGIN:DAYLIGHT
TZOFFSETFROM:+0000
TZOFFSETTO:+0100
TZNAME:BST
DTSTART:20270328T010000
END:DAYLIGHT
BEGIN:STANDARD
TZOFFSETFROM:+0100
TZOFFSETTO:+0000
TZNAME:GMT
DTSTART:20271031T010000
END:STANDARD
END:VTIMEZONE
BEGIN:VEVENT
DTSTART;TZID=Europe/London:20260311T080000
DTEND;TZID=Europe/London:20260312T170000
DTSTAMP:20260421T180549
CREATED:20251218T141507Z
LAST-MODIFIED:20260217T133321Z
UID:17132-1773216000-1773334800@remedi4all.org
SUMMARY:REMEDi4ALL Drug Repurposing Bootcamp for Academics 2026
DESCRIPTION:From Hypothesis to Impact: Navigating the Repurposing Pathway\nDrug repurposing represents a vital pathway for treatment development\, both for patient communities and academic innovators. Finding new uses for existing drugs can provide a more rapid pathway to patient impact\, both by reducing the number of steps to a clinical trial and reducing the financial barrier to research. \nWhile the potential of repurposing is huge\, the pathway to deliver a repurposed medicine from concept to market remains a hugely challenging one. This is particularly hard for academic researchers to navigate – employing their scientific skill set to the complex and highly regulated world of drug development unsupported can lead to projects quickly becoming mired in challenges or uncertainty. \nThe REMEDi4ALL Drug Repurposing Bootcamp for Academics\, held at the Wellcome Genome Campus in Cambridge\, aims to support researchers embarking on this journey. This pilot training course will provide face to face training to explain the full drug repurposing pathway\, helping researchers understand the steps involved in turning a repurposing hypothesis into a product capable of delivering real impact to patients.
URL:https://remedi4all.org/event/remedi4all-drug-repurposing-bootcamp-for-academics-2026-2/
LOCATION:Hinxton Hall\, Wellcome Genome Campus\, Hinxton\, Cambridge\, CB10 1RQ\, United Kingdom
ATTACH;FMTTYPE=image/png:https://remedi4all.org/wp-content/uploads/2025/11/R4ALL-academic-bootcamp-2026.png
END:VEVENT
END:VCALENDAR