BEGIN:VCALENDAR
VERSION:2.0
PRODID:-//REMEDi4ALL - ECPv6.15.20//NONSGML v1.0//EN
CALSCALE:GREGORIAN
METHOD:PUBLISH
X-ORIGINAL-URL:https://remedi4all.org
X-WR-CALDESC:Events for REMEDi4ALL
REFRESH-INTERVAL;VALUE=DURATION:PT1H
X-Robots-Tag:noindex
X-PUBLISHED-TTL:PT1H
BEGIN:VTIMEZONE
TZID:Europe/Amsterdam
BEGIN:DAYLIGHT
TZOFFSETFROM:+0100
TZOFFSETTO:+0200
TZNAME:CEST
DTSTART:20240331T010000
END:DAYLIGHT
BEGIN:STANDARD
TZOFFSETFROM:+0200
TZOFFSETTO:+0100
TZNAME:CET
DTSTART:20241027T010000
END:STANDARD
BEGIN:DAYLIGHT
TZOFFSETFROM:+0100
TZOFFSETTO:+0200
TZNAME:CEST
DTSTART:20250330T010000
END:DAYLIGHT
BEGIN:STANDARD
TZOFFSETFROM:+0200
TZOFFSETTO:+0100
TZNAME:CET
DTSTART:20251026T010000
END:STANDARD
BEGIN:DAYLIGHT
TZOFFSETFROM:+0100
TZOFFSETTO:+0200
TZNAME:CEST
DTSTART:20260329T010000
END:DAYLIGHT
BEGIN:STANDARD
TZOFFSETFROM:+0200
TZOFFSETTO:+0100
TZNAME:CET
DTSTART:20261025T010000
END:STANDARD
BEGIN:DAYLIGHT
TZOFFSETFROM:+0100
TZOFFSETTO:+0200
TZNAME:CEST
DTSTART:20270328T010000
END:DAYLIGHT
BEGIN:STANDARD
TZOFFSETFROM:+0200
TZOFFSETTO:+0100
TZNAME:CET
DTSTART:20271031T010000
END:STANDARD
END:VTIMEZONE
BEGIN:VTIMEZONE
TZID:Europe/London
BEGIN:DAYLIGHT
TZOFFSETFROM:+0000
TZOFFSETTO:+0100
TZNAME:BST
DTSTART:20250330T010000
END:DAYLIGHT
BEGIN:STANDARD
TZOFFSETFROM:+0100
TZOFFSETTO:+0000
TZNAME:GMT
DTSTART:20251026T010000
END:STANDARD
BEGIN:DAYLIGHT
TZOFFSETFROM:+0000
TZOFFSETTO:+0100
TZNAME:BST
DTSTART:20260329T010000
END:DAYLIGHT
BEGIN:STANDARD
TZOFFSETFROM:+0100
TZOFFSETTO:+0000
TZNAME:GMT
DTSTART:20261025T010000
END:STANDARD
BEGIN:DAYLIGHT
TZOFFSETFROM:+0000
TZOFFSETTO:+0100
TZNAME:BST
DTSTART:20270328T010000
END:DAYLIGHT
BEGIN:STANDARD
TZOFFSETFROM:+0100
TZOFFSETTO:+0000
TZNAME:GMT
DTSTART:20271031T010000
END:STANDARD
END:VTIMEZONE
BEGIN:VEVENT
DTSTART;TZID=Europe/Amsterdam:20250611T190000
DTEND;TZID=Europe/Amsterdam:20250611T203000
DTSTAMP:20260423T001841
CREATED:20250512T110903Z
LAST-MODIFIED:20250512T110903Z
UID:12334-1749668400-1749673800@remedi4all.org
SUMMARY:Recurrent Respiratory Papillomatosis (RRP) Awareness Day Webcast
DESCRIPTION:RRP Awareness Day is an international event to raise awareness about recurrent respiratory papillomatosis (RRP)\, a debilitating disease driven by chronic HPV 6/11 viral infection.\nJoin the RRP Awareness Day global webcast on June 11th to hear from RRP patients\, their caregivers\, and the healthcare community supporting them about:\n\n\n\n\n\nPatient and caregiver experience with RRP\nSignificant burden of living with RRP\nChallenges of repeated surgeries and risk of irreversible injury\nNeed for new innovations\n\nCO-HOSTS\n\n\nRRP Foundation\nKim McClellan\, President \n\n\n\n\nPRECIGEN\nHelen Sabzevari\, PhD\, President and CEO \n\n\n\nWho should attend?\n\n\n\n\n\n\nRRP patients\nCaregivers and family members\nHealthcare providers\nCommunity supporting RRP patients
URL:https://remedi4all.org/event/recurrent-respiratory-papillomatosis-rrp-awareness-day-webcast/
LOCATION:Online Event
ATTACH;FMTTYPE=image/png:https://remedi4all.org/wp-content/uploads/2025/05/mnt7l7APQUyc2_HJmrdS_Q.png
END:VEVENT
BEGIN:VEVENT
DTSTART;TZID=Europe/Amsterdam:20250731T163000
DTEND;TZID=Europe/Amsterdam:20250731T173000
DTSTAMP:20260423T001841
CREATED:20250721T084522Z
LAST-MODIFIED:20250721T084539Z
UID:14110-1753979400-1753983000@remedi4all.org
SUMMARY:Webinar: Cures Within Reach new funding call: Clinical trials to validate AI-driven drug repurposing
DESCRIPTION:Artificial intelligence (AI) is increasingly seen as a powerful tool in the search for new treatments – especially through drug repurposing. By analysing large sets of data\, AI can help identify existing medicines that might work for different conditions – something particularly valuable in rare diseases. \nHowever\, do AI-generated predictions actually work when tested in real-life clinical trials? \nCures Within Reach is helping to explore this question through a new funding call. They’re inviting letters of intent for Phase I/IIA clinical trials that will test and validate AI-based repurposing ideas\, with a preference for rare disease. \nLearn more about the call here. \n\n\n\n\nThis webinar hosted by Beacon for Rare Diseases in collaboration with REMEDi4ALL and Cures within Reach will cover: \n\nA breakdown of what this funding call is about\nAdvice from Cures Within Reach on what makes a strong application\nHow patient groups can get involved in applications\nA practical example of a patient group contributing to an AI-led initiative\nThe opportunity to ask any questions you might have to the Cures Within Reach team\n\n\n\n\nRegister for the webinar here!
URL:https://remedi4all.org/event/cures-within-reach-new-funding-call-clinical-trials-to-validate-ai-driven-drug-repurposing/
LOCATION:Online Event
ATTACH;FMTTYPE=image/png:https://remedi4all.org/wp-content/uploads/2025/07/Image20250718102044-scaled.png
END:VEVENT
BEGIN:VEVENT
DTSTART;TZID=Europe/Amsterdam:20251006T140000
DTEND;TZID=Europe/Amsterdam:20251010T170000
DTSTAMP:20260423T001841
CREATED:20250415T104016Z
LAST-MODIFIED:20250811T092029Z
UID:11711-1759759200-1760115600@remedi4all.org
SUMMARY:2025 REMEDi4ALL Hackathon
DESCRIPTION:Are you an early career researcher (ECR) who wants to delve into drug repurposing?\n  \nJoin us for the second REMEDi4ALL Hackathon\, 6-10 October 2025\, held at Hotel Checkin Montserrat\, near Barcelona\, Spain. \nThe REMEDi4ALL Repurposing Hackathon is designed to help early career researchers learn by doing. Join a small team of international trainees keen to learn about the repurposing pathway on a week-long residential course where you aim to plan the development of a repurposing candidate for a specific patient community.  \nWho is the Hackathon for?\n\nStudents and researchers in the early stages of their career up to 2 years post-doc\nIndividuals with an interest in drug repurposing\nIndividuals with an excellent scientific track record\nPrevious experience in the drug repurposing field will be considered a plus\n\n\n\n\n\n\n\n\n\n\n\n\n\n\n\n\n\n\n\n\n\n\n\n\n\n\n\n\n\nWhat will you learn?\nThe REMEDi4ALL Hackathon aims to teach participants how to: \n\nUse computational tools to generate repurposing candidates suitable for a defined indication\nNarrow down potential repurposed drug options tailored to a particular indication\nIdentify needs and knowledge gaps in a repurposing project\, helping to define the path for a drug candidate\nWork together with other ECRs to complete a repurposing challenge\n\n\n  \n\nTraining format\n\n\n\nIn-person\, residential training for 15 participants\nAdvance registration required\nSmall teams of early career researchers work on a project throughout the week\nSupport through lectures and guidance of REMEDi4ALL experts\, and external advisers\, including patient experts\n\n\n\n\n\n  \nInterested in learning more? Check out our highlights video from 2024 or explore the Hackathon website within the REMEDi4ALL Repurposing Academy.
URL:https://remedi4all.org/event/2025-remedi4all-hackathon/
LOCATION:Hotel Checkin Montserrat\, Carrer Querol\, 08293 Collbató\, Barcelona\, Spain
END:VEVENT
BEGIN:VEVENT
DTSTART;TZID=Europe/Amsterdam:20251121T140000
DTEND;TZID=Europe/Amsterdam:20251121T153000
DTSTAMP:20260423T001841
CREATED:20250915T161006Z
LAST-MODIFIED:20250915T161006Z
UID:15186-1763733600-1763739000@remedi4all.org
SUMMARY:Webinar: IP Strategies for Repurposing
DESCRIPTION:Discover the value of having an intellectual property (IP) strategy in your repurposing project and how to use this to drive success! \nNot sure where to start with intellectual property (IP) in your drug repurposing project? REMEDi4ALL’s Repurposing Academy is here to guide you! \nJoin us for our upcoming webinar where we will explore the importance of considering IP as part of your broader drug repurposing strategy. \nWe’ll discuss common challenges you may encounter and key considerations to keep in mind throughout your repurposing project. Additionally\, we’ll outline practical steps for securing IP protection for repurposed drugs and show how a strong IP strategy can help drive your project forward.
URL:https://remedi4all.org/event/webinar-ip-for-repurposing/
LOCATION:Online Event
ATTACH;FMTTYPE=image/png:https://remedi4all.org/wp-content/uploads/2025/09/CT-Webinar-Series-Webinar-1-FINAL.png
END:VEVENT
BEGIN:VEVENT
DTSTART;TZID=Europe/Amsterdam:20251127T130000
DTEND;TZID=Europe/Amsterdam:20251127T140000
DTSTAMP:20260423T001841
CREATED:20251113T085710Z
LAST-MODIFIED:20251127T103945Z
UID:16671-1764248400-1764252000@remedi4all.org
SUMMARY:ProvenConnect REMEDi4ALL Webinar
DESCRIPTION:* This is an online event that will take place 1200–1300 UK time (1300-1400 CET) on Zoom. * \nREMEDi4ALL is presenting to the TAR Network in a Proven Connect webinar. Speakers Alicia Soler (Lead Scientific Operations at REMEDi4ALL /EATRIS)\, Heleen van der Meer (Senior programme manager international drug repurposing at ZonMw) and Pan Pantziarka (Director of Drug Repurposing at Anticancer Fund) will present the REMEDi4ALL project and Funder’s Network.
URL:https://remedi4all.org/event/provenconnect-remedi4all-webinar/
LOCATION:Online Event
ATTACH;FMTTYPE=image/png:https://remedi4all.org/wp-content/uploads/2025/11/REMEDi4ALL-funders-network-Post-para-LinkedIn-1.png
END:VEVENT
BEGIN:VEVENT
DTSTART;TZID=Europe/London:20260311T080000
DTEND;TZID=Europe/London:20260312T170000
DTSTAMP:20260423T001841
CREATED:20251218T141507Z
LAST-MODIFIED:20260217T133321Z
UID:17132-1773216000-1773334800@remedi4all.org
SUMMARY:REMEDi4ALL Drug Repurposing Bootcamp for Academics 2026
DESCRIPTION:From Hypothesis to Impact: Navigating the Repurposing Pathway\nDrug repurposing represents a vital pathway for treatment development\, both for patient communities and academic innovators. Finding new uses for existing drugs can provide a more rapid pathway to patient impact\, both by reducing the number of steps to a clinical trial and reducing the financial barrier to research. \nWhile the potential of repurposing is huge\, the pathway to deliver a repurposed medicine from concept to market remains a hugely challenging one. This is particularly hard for academic researchers to navigate – employing their scientific skill set to the complex and highly regulated world of drug development unsupported can lead to projects quickly becoming mired in challenges or uncertainty. \nThe REMEDi4ALL Drug Repurposing Bootcamp for Academics\, held at the Wellcome Genome Campus in Cambridge\, aims to support researchers embarking on this journey. This pilot training course will provide face to face training to explain the full drug repurposing pathway\, helping researchers understand the steps involved in turning a repurposing hypothesis into a product capable of delivering real impact to patients.
URL:https://remedi4all.org/event/remedi4all-drug-repurposing-bootcamp-for-academics-2026-2/
LOCATION:Hinxton Hall\, Wellcome Genome Campus\, Hinxton\, Cambridge\, CB10 1RQ\, United Kingdom
ATTACH;FMTTYPE=image/png:https://remedi4all.org/wp-content/uploads/2025/11/R4ALL-academic-bootcamp-2026.png
END:VEVENT
BEGIN:VEVENT
DTSTART;VALUE=DATE:20260511
DTEND;VALUE=DATE:20260512
DTSTAMP:20260423T001841
CREATED:20251114T114854Z
LAST-MODIFIED:20260401T081913Z
UID:16685-1778457600-1778543999@remedi4all.org
SUMMARY:REMEDi4ALL Funders Network Meets Policy
DESCRIPTION:REMEDi4ALL Funders Network Meets Policy\nAs in previous editions\, #iDR26 will feature a pre-conference meeting dedicated to the Funders Network on Monday 11 May.  \nThis interactive workshop will bring together research funders and policy-makers to explore opportunities on coordinated funding models and co-funding practices with policy considerations around reimbursement and market access\, creating an end-to-end perspective.  \nAgenda:  \n\n12.30-13.30: Lunch \n13.30-15.30: Session 1: Push mechanisms (Funders Network & innovative funding models) \n15.30-16.00: Break \n16.00-18.00: Session 2: Pull mechanisms (Regulatory and pricing & reimbursement policy)  \n16.00-18.00: Networking drinks  \n\nAim of the Session  \n\nConvene research funders and policy representatives to build shared understanding and alignment.  \nIdentify actions funders can take to push drug repurposing forward.  \nIdentify pull mechanisms that policymakers can implement (e.g.\, incentives for industry\, regulatory levers).  \n\n Please note that this is an invitation-only event.   \nAre you a funder who is not yet a member but interested in joining? Contact us at remedi4all@zonmw.nl. 
URL:https://remedi4all.org/event/remedi4all-funders-network-event-2026/
ATTACH;FMTTYPE=image/png:https://remedi4all.org/wp-content/uploads/2025/11/iDR26-Promo-Marketplace-Meeting-061125-2.png
END:VEVENT
BEGIN:VEVENT
DTSTART;VALUE=DATE:20260512
DTEND;VALUE=DATE:20260514
DTSTAMP:20260423T001841
CREATED:20251023T130544Z
LAST-MODIFIED:20251023T130710Z
UID:16315-1778544000-1778716799@remedi4all.org
SUMMARY:International Drug Repurposing Conference 2026 - #iDR26
DESCRIPTION:Join iDR26\, the International Drug Repurposing Conference\, on 12-13 May 2026 in Brussels\, Belgium to explore the future of patient-centric medicines repurposing.   \nFrom rare diseases and AI-driven drug discovery\, to policy\, funding and community-led success stories\, iDR26 brings together the global drug repurposing community to navigate the next chapter in maximising patient benefit. \nExplore the full conference here!
URL:https://remedi4all.org/event/idr26/
LOCATION:Maison de la Poste\, Brussels\, Belgium\, Rue Picard 7\, Brussels\, Belgium
ATTACH;FMTTYPE=image/png:https://remedi4all.org/wp-content/uploads/2025/10/iDR26_Promo_20251001b-1-scaled.png
END:VEVENT
BEGIN:VEVENT
DTSTART;TZID=Europe/Amsterdam:20260906T140000
DTEND;TZID=Europe/Amsterdam:20260911T170000
DTSTAMP:20260423T001841
CREATED:20260225T154749Z
LAST-MODIFIED:20260325T092254Z
UID:17899-1788703200-1789146000@remedi4all.org
SUMMARY:2026 REMEDi4ALL Hackathon
DESCRIPTION:Are you an early career researcher (ECR) who wants to delve into drug repurposing?\n  \nJoin us for the third REMEDi4ALL Hackathon\, 6-11 September 2026\, held at Hotel Checkin Montserrat\, near Barcelona\, Spain. \nThe REMEDi4ALL Repurposing Hackathon is designed to help early career researchers learn by doing. Join a small team of international trainees keen to learn about the repurposing pathway on a week-long residential course where you aim to plan the development of a repurposing candidate for a specific patient community.  \nWho is the Hackathon for?\n\nStudents and researchers in the early stages of their career up to 2 years post-doc\nIndividuals with an interest in drug repurposing\nIndividuals with an excellent scientific track record\nPrevious experience in the drug repurposing field will be considered a plus\n\n\n\n\n\n\n\n\n\n\n\n\n\n\n\n\n\n\n\n\n\n\n\n\n\n\n\n\n\nWhat will you learn?\nThe REMEDi4ALL Hackathon aims to teach participants how to: \n\nUse computational tools to generate repurposing candidates suitable for a defined indication\nNarrow down potential repurposed drug options tailored to a particular indication\nIdentify needs and knowledge gaps in a repurposing project\, helping to define the path for a drug candidate\nWork together with other ECRs to complete a repurposing challenge\n\n\n  \n\nTraining format\n\n\n\nIn-person\, residential training for 15 participants\nAdvance registration required\nSmall teams of early career researchers work on a project throughout the week\nSupport through lectures and guidance of REMEDi4ALL experts\, and external advisers\, including patient experts\n\n\n\n\n\n  \nInterested in learning more? Check out our highlights video from 2025 or explore the Hackathon website within the REMEDi4ALL Repurposing Academy.\nApplications open now: apply here
URL:https://remedi4all.org/event/2026-remedi4all-hackathon/
LOCATION:Hotel Checkin Montserrat\, Carrer Querol\, 08293 Collbató\, Barcelona\, Spain
ATTACH;FMTTYPE=image/jpeg:https://remedi4all.org/wp-content/uploads/2025/10/image00005-1-scaled.jpeg
END:VEVENT
END:VCALENDAR