BEGIN:VCALENDAR
VERSION:2.0
PRODID:-//REMEDi4ALL - ECPv6.15.20//NONSGML v1.0//EN
CALSCALE:GREGORIAN
METHOD:PUBLISH
X-WR-CALNAME:REMEDi4ALL
X-ORIGINAL-URL:https://remedi4all.org
X-WR-CALDESC:Events for REMEDi4ALL
REFRESH-INTERVAL;VALUE=DURATION:PT1H
X-Robots-Tag:noindex
X-PUBLISHED-TTL:PT1H
BEGIN:VTIMEZONE
TZID:Europe/Amsterdam
BEGIN:DAYLIGHT
TZOFFSETFROM:+0100
TZOFFSETTO:+0200
TZNAME:CEST
DTSTART:20240331T010000
END:DAYLIGHT
BEGIN:STANDARD
TZOFFSETFROM:+0200
TZOFFSETTO:+0100
TZNAME:CET
DTSTART:20241027T010000
END:STANDARD
BEGIN:DAYLIGHT
TZOFFSETFROM:+0100
TZOFFSETTO:+0200
TZNAME:CEST
DTSTART:20250330T010000
END:DAYLIGHT
BEGIN:STANDARD
TZOFFSETFROM:+0200
TZOFFSETTO:+0100
TZNAME:CET
DTSTART:20251026T010000
END:STANDARD
BEGIN:DAYLIGHT
TZOFFSETFROM:+0100
TZOFFSETTO:+0200
TZNAME:CEST
DTSTART:20260329T010000
END:DAYLIGHT
BEGIN:STANDARD
TZOFFSETFROM:+0200
TZOFFSETTO:+0100
TZNAME:CET
DTSTART:20261025T010000
END:STANDARD
END:VTIMEZONE
BEGIN:VTIMEZONE
TZID:Europe/London
BEGIN:DAYLIGHT
TZOFFSETFROM:+0000
TZOFFSETTO:+0100
TZNAME:BST
DTSTART:20240331T010000
END:DAYLIGHT
BEGIN:STANDARD
TZOFFSETFROM:+0100
TZOFFSETTO:+0000
TZNAME:GMT
DTSTART:20241027T010000
END:STANDARD
BEGIN:DAYLIGHT
TZOFFSETFROM:+0000
TZOFFSETTO:+0100
TZNAME:BST
DTSTART:20250330T010000
END:DAYLIGHT
BEGIN:STANDARD
TZOFFSETFROM:+0100
TZOFFSETTO:+0000
TZNAME:GMT
DTSTART:20251026T010000
END:STANDARD
BEGIN:DAYLIGHT
TZOFFSETFROM:+0000
TZOFFSETTO:+0100
TZNAME:BST
DTSTART:20260329T010000
END:DAYLIGHT
BEGIN:STANDARD
TZOFFSETFROM:+0100
TZOFFSETTO:+0000
TZNAME:GMT
DTSTART:20261025T010000
END:STANDARD
END:VTIMEZONE
BEGIN:VEVENT
DTSTART;TZID=Europe/Amsterdam:20250307T110000
DTEND;TZID=Europe/Amsterdam:20250307T123000
DTSTAMP:20260422T072553
CREATED:20250124T125052Z
LAST-MODIFIED:20250124T140654Z
UID:9917-1741345200-1741350600@remedi4all.org
SUMMARY:REMEDi4ALL Clinical Trials Webinar Series: Support and Management of Clinical Trials
DESCRIPTION:Register for Webinar 3 here!\n  \nWebinar 3: Support and Management of Clinical Trials – 7 March (11:00-12:30 CET)\nExploring different organisations\, processes and pathways for expert support when planning\, setting up and running a clinical trial.\nIn this third and final webinar in the series we will highlight different collaborations that are required in running a clinical trial efficiently. Find out more here!
URL:https://remedi4all.org/event/remedi4all-clinical-trials-webinar-series-support-management-clinical-trials/
LOCATION:Online Event
ATTACH;FMTTYPE=image/png:https://remedi4all.org/wp-content/uploads/2025/01/CT-Webinar-Series-Webinar-3-FINAL-1.png
END:VEVENT
BEGIN:VEVENT
DTSTART;VALUE=DATE:20250317
DTEND;VALUE=DATE:20250319
DTSTAMP:20260422T072553
CREATED:20250122T092332Z
LAST-MODIFIED:20250124T131341Z
UID:9772-1742169600-1742342399@remedi4all.org
SUMMARY:REMEDi4ALL Drug Repurposing Bootcamp for Academics
DESCRIPTION:Drug repurposing offers a faster\, more cost-effective way to develop treatments\, addressing urgent patient needs and unlocking opportunities for academic innovation. However\, the journey from a repurposing concept to a market-ready product is complex\, presenting significant challenges for researchers. The REMEDi4ALL Drug Repurposing Bootcamp for Academics is designed to support senior post-doctoral researchers and early-career principal investigators leading promising projects by equipping them with the skills and knowledge to navigate this pathway successfully. \nThis immersive\, day-and-a-half training programme combines expert lectures\, interactive discussions\, and working groups to cover key topics such as regulatory engagement\, collaboration building\, funding applications\, and science communication. By participating\, attendees will not only develop a clearer understanding of how to deliver real patient impact but also join the growing REMEDi4ALL community. \nTwenty fully funded places are available\, covering travel\, accommodation\, and access to this free training. Applications are open until February\, with reviews conducted on a rolling basis. \nFind out more information here: REMEDi4ALL Drug Repurposing Bootcamp for Academics \nRegister here!
URL:https://remedi4all.org/event/dr-bootcamp-academics-2025/
LOCATION:Hinxton Hall\, Wellcome Genome Campus\, Hinxton\, Cambridge\, CB10 1RQ\, United Kingdom
ATTACH;FMTTYPE=image/png:https://remedi4all.org/wp-content/uploads/2025/01/R4ALL-academic-bootcamp-final-graphic.png
END:VEVENT
END:VCALENDAR