BEGIN:VCALENDAR
VERSION:2.0
PRODID:-//REMEDi4ALL - ECPv6.15.20//NONSGML v1.0//EN
CALSCALE:GREGORIAN
METHOD:PUBLISH
X-WR-CALNAME:REMEDi4ALL
X-ORIGINAL-URL:https://remedi4all.org
X-WR-CALDESC:Events for REMEDi4ALL
REFRESH-INTERVAL;VALUE=DURATION:PT1H
X-Robots-Tag:noindex
X-PUBLISHED-TTL:PT1H
BEGIN:VTIMEZONE
TZID:Europe/Amsterdam
BEGIN:DAYLIGHT
TZOFFSETFROM:+0100
TZOFFSETTO:+0200
TZNAME:CEST
DTSTART:20240331T010000
END:DAYLIGHT
BEGIN:STANDARD
TZOFFSETFROM:+0200
TZOFFSETTO:+0100
TZNAME:CET
DTSTART:20241027T010000
END:STANDARD
BEGIN:DAYLIGHT
TZOFFSETFROM:+0100
TZOFFSETTO:+0200
TZNAME:CEST
DTSTART:20250330T010000
END:DAYLIGHT
BEGIN:STANDARD
TZOFFSETFROM:+0200
TZOFFSETTO:+0100
TZNAME:CET
DTSTART:20251026T010000
END:STANDARD
BEGIN:DAYLIGHT
TZOFFSETFROM:+0100
TZOFFSETTO:+0200
TZNAME:CEST
DTSTART:20260329T010000
END:DAYLIGHT
BEGIN:STANDARD
TZOFFSETFROM:+0200
TZOFFSETTO:+0100
TZNAME:CET
DTSTART:20261025T010000
END:STANDARD
END:VTIMEZONE
BEGIN:VEVENT
DTSTART;TZID=Europe/Amsterdam:20250731T163000
DTEND;TZID=Europe/Amsterdam:20250731T173000
DTSTAMP:20260422T042423
CREATED:20250721T084522Z
LAST-MODIFIED:20250721T084539Z
UID:14110-1753979400-1753983000@remedi4all.org
SUMMARY:Webinar: Cures Within Reach new funding call: Clinical trials to validate AI-driven drug repurposing
DESCRIPTION:Artificial intelligence (AI) is increasingly seen as a powerful tool in the search for new treatments – especially through drug repurposing. By analysing large sets of data\, AI can help identify existing medicines that might work for different conditions – something particularly valuable in rare diseases. \nHowever\, do AI-generated predictions actually work when tested in real-life clinical trials? \nCures Within Reach is helping to explore this question through a new funding call. They’re inviting letters of intent for Phase I/IIA clinical trials that will test and validate AI-based repurposing ideas\, with a preference for rare disease. \nLearn more about the call here. \n\n\n\n\nThis webinar hosted by Beacon for Rare Diseases in collaboration with REMEDi4ALL and Cures within Reach will cover: \n\nA breakdown of what this funding call is about\nAdvice from Cures Within Reach on what makes a strong application\nHow patient groups can get involved in applications\nA practical example of a patient group contributing to an AI-led initiative\nThe opportunity to ask any questions you might have to the Cures Within Reach team\n\n\n\n\nRegister for the webinar here!
URL:https://remedi4all.org/event/cures-within-reach-new-funding-call-clinical-trials-to-validate-ai-driven-drug-repurposing/
LOCATION:Online Event
ATTACH;FMTTYPE=image/png:https://remedi4all.org/wp-content/uploads/2025/07/Image20250718102044-scaled.png
END:VEVENT
END:VCALENDAR